BEGIN:VCALENDAR
VERSION:2.0
PRODID:-//IndiaSkills Competition 2025-26 - ECPv6.15.13//NONSGML v1.0//EN
CALSCALE:GREGORIAN
METHOD:PUBLISH
X-ORIGINAL-URL:https://indiaskills2025.worldskillsindia.co.in
X-WR-CALDESC:Events for IndiaSkills Competition 2025-26
REFRESH-INTERVAL;VALUE=DURATION:PT1H
X-Robots-Tag:noindex
X-PUBLISHED-TTL:PT1H
BEGIN:VTIMEZONE
TZID:Asia/Kolkata
BEGIN:STANDARD
TZOFFSETFROM:+0530
TZOFFSETTO:+0530
TZNAME:IST
DTSTART:20250101T000000
END:STANDARD
END:VTIMEZONE
BEGIN:VEVENT
DTSTART;TZID=Asia/Kolkata:20260224T140000
DTEND;TZID=Asia/Kolkata:20260224T170000
DTSTAMP:20260426T001803
CREATED:20260204T125306Z
LAST-MODIFIED:20260220T065359Z
UID:4646-1771941600-1771952400@indiaskills2025.worldskillsindia.co.in
SUMMARY:IndiaSkills 2025-26 - South Regional Closing Ceremony
DESCRIPTION:
URL:https://indiaskills2025.worldskillsindia.co.in/competition-calendar/indiaskills-2025-26-south-regional-closing-ceremony/
LOCATION:Kanha Shanti Vanam\, Hyderabad\, Kanha Shanti Vanam\, Hyderabad\, Telangana\, 509328\, India
CATEGORIES:IndiaSkills 2025-26 - South Regional Competition
ATTACH;FMTTYPE=image/jpeg:https://indiaskills2025.worldskillsindia.co.in/wp-content/uploads/2026/01/banner-image-1.jpg
END:VEVENT
BEGIN:VEVENT
DTSTART;VALUE=DATE:20260222
DTEND;VALUE=DATE:20260224
DTSTAMP:20260426T001803
CREATED:20260204T121847Z
LAST-MODIFIED:20260224T172015Z
UID:4638-1771718400-1771891199@indiaskills2025.worldskillsindia.co.in
SUMMARY:IndiaSkills 2025-26 - South Regional Skill Competition
DESCRIPTION:
URL:https://indiaskills2025.worldskillsindia.co.in/competition-calendar/indiaskills-2025-26-south-regional-skill-competition/
LOCATION:Kanha Shanti Vanam\, Hyderabad\, Kanha Shanti Vanam\, Hyderabad\, Telangana\, 509328\, India
CATEGORIES:IndiaSkills 2025-26 - South Regional Competition
ATTACH;FMTTYPE=image/jpeg:https://indiaskills2025.worldskillsindia.co.in/wp-content/uploads/2026/01/banner-image-1.jpg
END:VEVENT
BEGIN:VEVENT
DTSTART;TZID=Asia/Kolkata:20260221T140000
DTEND;TZID=Asia/Kolkata:20260221T170000
DTSTAMP:20260426T001803
CREATED:20260204T121306Z
LAST-MODIFIED:20260220T065410Z
UID:4634-1771682400-1771693200@indiaskills2025.worldskillsindia.co.in
SUMMARY:IndiaSkills 2025-26 - South Regional Opening Ceremony
DESCRIPTION:
URL:https://indiaskills2025.worldskillsindia.co.in/competition-calendar/indiaskills-2025-26-south-regional-opening-ceremony/
LOCATION:Kanha Shanti Vanam\, Hyderabad\, Kanha Shanti Vanam\, Hyderabad\, Telangana\, 509328\, India
CATEGORIES:IndiaSkills 2025-26 - South Regional Competition
ATTACH;FMTTYPE=image/jpeg:https://indiaskills2025.worldskillsindia.co.in/wp-content/uploads/2025/12/banner-image-1-new.jpg
END:VEVENT
END:VCALENDAR